BEGIN:VCALENDAR
VERSION:2.0
PRODID:icalendar-ruby
CALSCALE:GREGORIAN
METHOD:PUBLISH
BEGIN:VEVENT
DTSTAMP:20260422T221822Z
UID:192-1537563@graceunitedthornbury.ca
DTSTART:20260813T200000Z
DTEND:20260813T213000Z
CLASS:PUBLIC
CREATED:20260422T181238
DESCRIPTION:The Grace Senior Choir meet on Thursdays from 4:30 - 5:45pm for
  practice. \nThe choir provides a range of music from different tradition
 s for the Sunday morning service at 10:30am. \nNo prior musical experienc
 e is necessary\, only a commitment to to sing! \nPlease contact Music Dir
 ector Dr. Christopher Burton at cjburtonmusic@graceunitedthornbury.ca.
LAST-MODIFIED:20260422T181238
LOCATION:
SUMMARY:Grace Senior Choir
URL;VALUE=URI:https://www.graceunitedthornbury.ca/events/grace-senior-choir
 /2026-08-13
ATTACH;FILENAME=Choir-Image-Website-2024.jpg;FMTTYPE=image/jpeg:https://dq5
 pwpg1q8ru0.cloudfront.net/2024/02/06/17/26/34/14d6f230-75e2-47c2-82b0-37e4
 97f2c4b8/Choir-Image-Website-2024.jpg
END:VEVENT
END:VCALENDAR
